BEGIN:VCALENDAR
VERSION:2.0
PRODID:-//Museum of Durham History//NONSGML Events//EN
METHOD:REQUEST
BEGIN:VEVENT
UID:20260423T095200-864042544-modh
DTSTAMP:20260423T095200
DTSTART:20220114T120000
DTEND:20220114T130000
SUMMARY:HBCU Sports Panel Discussion
DESCRIPTION:Join the Museum of Durham History on Friday, January 14th at 12PM for a virtual lunch-and-learn discussion on the experience of athletes at our local HBCUs. Panel moderator Marcus Manning (Executive Director, Durham Sports Commission) will be joined by Athletic Directors Dr. Ingrid Wicker McCree (NCCU) and Earl Hilton III...
END:VEVENT
END:VCALENDAR
