BEGIN:VCALENDAR
VERSION:2.0
PRODID:-//Museum of Durham History//NONSGML Events//EN
METHOD:REQUEST
BEGIN:VEVENT
UID:20260423T080520-1889022200-modh
DTSTAMP:20260423T080520
DTSTART:20220217T190000
DTEND:20220217T203000
SUMMARY:Curator Talk
DESCRIPTION:Join the Museum of Durham History on Thursday, February 17th at 7PM at the Hayti Heritage Center (804 Old Fayetteville Street) for a special presentation by the curators of our latest exhibit, More Than Just a Game: The NCCU vs. NC A&T Football Rivalry. Curators Dr. Charles D. Johnson (Assistant...
END:VEVENT
END:VCALENDAR
