BEGIN:VCALENDAR
VERSION:2.0
PRODID:-//Museum of Durham History//NONSGML Events//EN
METHOD:REQUEST
BEGIN:VEVENT
UID:20260423T045548-1543821923-modh
DTSTAMP:20260423T045548
DTSTART:20151016T180000
DTEND:20151016T210000
SUMMARY:Hayti at the Hub
DESCRIPTION:Stop by to see the latest exhibit in the Durham A-Z series: H is for Hayti. Enjoy food truck refreshments, hear live music, and join a community discussion.
END:VEVENT
END:VCALENDAR
