BEGIN:VCALENDAR
VERSION:2.0
PRODID:-//Museum of Durham History//NONSGML Events//EN
METHOD:REQUEST
BEGIN:VEVENT
UID:20260423T095253-444876293-modh
DTSTAMP:20260423T095253
DTSTART:20210928T150000
DTEND:20210928T163000
SUMMARY:Durden History Grove Dedication
DESCRIPTION:Join the Museum of Durham History in dedicating the newest History Grove for Dr. Robert Durden at Wrightwood Park on Tuesday, September 28th at 3:00pm. Family, former students, and MoDH Executive Director Patrick Mucklow are expected to make remarks. Robert Durden, who taught history classes at Duke...
END:VEVENT
END:VCALENDAR
