BEGIN:VCALENDAR
VERSION:2.0
PRODID:-//Museum of Durham History//NONSGML Events//EN
METHOD:REQUEST
BEGIN:VEVENT
UID:20260423T045600-314612087-modh
DTSTAMP:20260423T045600
DTSTART:20210713T190000
DTEND:20210713T210000
SUMMARY:Durham History Trivia At Fullsteam Brewery
DESCRIPTION:Join the Museum of Durham History at Fullsteam Brewery on July 13th from 7-9PM and test your Durham trivia knowledge! MoDH will provide drink tickets for the first 20 people in the door and prizes for the top three teams! More details and rules TBA. This event is part of...
END:VEVENT
END:VCALENDAR
