BEGIN:VCALENDAR
VERSION:2.0
PRODID:-//Museum of Durham History//NONSGML Events//EN
METHOD:REQUEST
BEGIN:VEVENT
UID:20260423T045550-2035649988-modh
DTSTAMP:20260423T045550
DTSTART:20210605T100000
DTEND:20210605T130000
SUMMARY:Kids&#8217; Craft Event: Durham Central Park Themed Mural
DESCRIPTION:Calling kids of all ages! MoDH needs your help to make a mural for the Museum’s wall that represents the Durham Central Park neighborhood’s changes throughout history, from a tobacco market to a modern place of innovation! On Saturday, June 5 from 10AM-1PM, stop by the Museum (500 W. Main...
END:VEVENT
END:VCALENDAR
