BEGIN:VCALENDAR
VERSION:2.0
PRODID:-//Museum of Durham History//NONSGML Events//EN
METHOD:REQUEST
BEGIN:VEVENT
UID:20260423T050828-1111268223-modh
DTSTAMP:20260423T050828
DTSTART:20210623T180000
DTEND:20210623T200000
SUMMARY:Royal Ice Cream Sit-In Sign Dedication
DESCRIPTION:Join us at the Museum of Durham History (500 W. Main St.) on Wednesday, June 23rd, at 6PM as we honor the legacy of the brave participants in the Royal Ice Cream Sit-in. Sit-in participants will be very special guests to share their stories. On the 64th anniversary of the...
END:VEVENT
END:VCALENDAR
