BEGIN:VCALENDAR
VERSION:2.0
PRODID:-//Museum of Durham History//NONSGML Events//EN
METHOD:REQUEST
BEGIN:VEVENT
UID:20260423T064542-1956599921-modh
DTSTAMP:20260423T064542
DTSTART:20210416T100000
DTEND:20210416T170000
SUMMARY:Opening Weekend &#8220;From Tobacco Market to Innovation Hub: Durham&#8217;s Central Park Neighborhood&#8221;
DESCRIPTION:To celebrate our re-opening, the Museum of Durham History (500 W. Main St.) invites you to join us on April 16th and 17th from 10:00AM-5:00PM for the opening of our newest exhibit From Tobacco Market to Innovation Hub: Durham’s Central Park Neighborhood.  Visitors can register for a one hour time...
END:VEVENT
END:VCALENDAR
