BEGIN:VCALENDAR
VERSION:2.0
PRODID:-//Museum of Durham History//NONSGML Events//EN
METHOD:REQUEST
BEGIN:VEVENT
UID:20260423T081514-954021923-modh
DTSTAMP:20260423T081514
DTSTART:20210216T120000
DTEND:20210216T133000
SUMMARY:Aaron McDuffie Moore: Founder of Durham&#8217;s Black Wall Street
DESCRIPTION:  Join us for a discussion about the life of Aaron McDuffie Moore, founder of Durham’s Black Wall Street. The author, Blake Hill-Saya and C. Eileen Watts Welch, President of Durham Colored Library who commissioned the biography. Hill-Saya & Welch are descendants of Moore. They will talk about the book...
END:VEVENT
END:VCALENDAR
