BEGIN:VCALENDAR
VERSION:2.0
PRODID:-//Museum of Durham History//NONSGML Events//EN
METHOD:REQUEST
BEGIN:VEVENT
UID:20260423T115537-1797376287-modh
DTSTAMP:20260423T115537
DTSTART:20210215T000000
DTEND:20210215T000000
SUMMARY:Friends of Geer Cemetery Outdoor Pop-up at MoDH
DESCRIPTION:The Museum of Durham History, in partnership with the Friends of Geer Cemetery, presents the story of four women who were buried in Geer Cemetery in a special social-distance friendly pop-up exhibit under the Museum’s gazebo starting Monday, February 15th. In an era of horrific racial injustice, African American women...
END:VEVENT
END:VCALENDAR
