BEGIN:VCALENDAR
VERSION:2.0
PRODID:-//Museum of Durham History//NONSGML Events//EN
METHOD:REQUEST
BEGIN:VEVENT
UID:20260423T100301-1068076041-modh
DTSTAMP:20260423T100301
DTSTART:20201105T220000
DTEND:20201106T000000
SUMMARY:Durham: A Self-Portrait 150 on WUNC-TV
DESCRIPTION:Last fall the Museum joined with filmmaker Steve Channing in  presenting the historical documentary, Durham: A Self-Portrait 150 to cap the city’s 150th anniversary.  The film tells the story of early Durham, noting the influence of tobacco, textiles and Black Wall Street as well as the civil rights struggle, epitomized in the 1944 ...
END:VEVENT
END:VCALENDAR
