BEGIN:VCALENDAR
VERSION:2.0
PRODID:-//Museum of Durham History//NONSGML Events//EN
METHOD:REQUEST
BEGIN:VEVENT
UID:20260423T100134-195593996-modh
DTSTAMP:20260423T100134
DTSTART:20201007T130000
DTEND:20201007T140000
SUMMARY:League of Women Voters Lunch and Learn
DESCRIPTION:Following the ratification of the 19th Amendment, the important work of registering women to vote began. 100 years later, the League of Women Voters(LWV) is still an active, non-partisan political organization that continues to encourage people to become informed and actively participate in government. The Museum of Durham History is...
END:VEVENT
END:VCALENDAR
