BEGIN:VCALENDAR
VERSION:2.0
PRODID:-//Museum of Durham History//NONSGML Events//EN
METHOD:REQUEST
BEGIN:VEVENT
UID:20260423T095406-1094318070-modh
DTSTAMP:20260423T095406
DTSTART:20200811T130000
DTEND:20200811T140000
SUMMARY:4 by 50: Turning Points in Durham History- Part 4
DESCRIPTION:Tuesdays, July 21 & 28 | August 4 &11, 1:00 p.m. The Museum of Durham History and Durham County Library present the final installment of a four-part live web series that captures today’s issues, framed in the context of Durham’s history in 50-year increments. Part four looks at: 2020. Panelists...
END:VEVENT
END:VCALENDAR
