BEGIN:VCALENDAR
VERSION:2.0
PRODID:-//Museum of Durham History//NONSGML Events//EN
METHOD:REQUEST
BEGIN:VEVENT
UID:20260423T065256-446512173-modh
DTSTAMP:20260423T065256
DTSTART:20200728T130000
DTEND:20200728T140000
SUMMARY:4 by 50: Turning Points in Durham History- Part 2
DESCRIPTION:Tuesdays, July 21 & 28 | August 4 &11, 1:00 p.m. The Museum of Durham History and Durham County Library present the second installment of a four-part live web series that captures today’s issues, framed in the context of Durham’s history in 50-year increments. Part two looks at: 1918—1964  Panelists...
END:VEVENT
END:VCALENDAR
