BEGIN:VCALENDAR
VERSION:2.0
PRODID:-//Museum of Durham History//NONSGML Events//EN
METHOD:REQUEST
BEGIN:VEVENT
UID:20260423T050828-1799380965-modh
DTSTAMP:20260423T050828
DTSTART:20200721T130000
DTEND:20200721T140000
SUMMARY:4 by 50: Turning Points in Durham History- Part 1
DESCRIPTION:Tuesdays, July 21 & 28 | August 4 &11, 1:00 p.m. The Museum of Durham History and Durham County Library present a four-part live web series that captures today’s issues, framed in the context of Durham’s history in 50-year increments. The four parts will look at: 1. 1869—1917 | 2. 1918—1964...
END:VEVENT
END:VCALENDAR
