BEGIN:VCALENDAR
VERSION:2.0
PRODID:-//Museum of Durham History//NONSGML Events//EN
METHOD:REQUEST
BEGIN:VEVENT
UID:20260423T065256-1656594781-modh
DTSTAMP:20260423T065256
DTSTART:20200402T120000
DTEND:20200402T130000
SUMMARY:Facebook Live web series: &#8220;Vintage Postcards from Durham&#8221;
DESCRIPTION:Preservation Durham and The Museum of Durham History are partnering to continue storytelling events during social distancing due to the spread of the coronavirus. On April 2, 9, and 16, at Noon, “street historian” John Schelp will be the guest presenter for a series of Facebook Live virtual presentations. Schelp...
END:VEVENT
END:VCALENDAR
