BEGIN:VCALENDAR
VERSION:2.0
PRODID:-//Museum of Durham History//NONSGML Events//EN
METHOD:REQUEST
BEGIN:VEVENT
UID:20260423T083303-851068520-modh
DTSTAMP:20260423T083303
DTSTART:20200508T180000
DTEND:20200508T200000
SUMMARY:POSTPONED: Leading Creative Protests in North Carolina
DESCRIPTION:Due to the Covid-19 outbreak, the Museum will continue to monitor the situation and make a decision on postponing upcoming event. Stay tuned for more information. Join us Friday, May 8th from 6-8PM for a discussion between Clarence Henderson of the Greensboro Woolworth sit-in, Virginia Williams of Durham’s...
END:VEVENT
END:VCALENDAR
