BEGIN:VCALENDAR
VERSION:2.0
PRODID:-//Museum of Durham History//NONSGML Events//EN
METHOD:REQUEST
BEGIN:VEVENT
UID:20260423T100343-1446089857-modh
DTSTAMP:20260423T100343
DTSTART:20200620T130000
DTEND:20200620T150000
SUMMARY:POSTPONED: Biking Durham&#8217;s Histories: Civil Rights Tour
DESCRIPTION:Join us on a tour of Durham’s civil rights history in honor of the Royal Ice Cream Parlor sit-in anniversary. Stay tuned for more information!...
END:VEVENT
END:VCALENDAR
