BEGIN:VCALENDAR
VERSION:2.0
PRODID:-//Museum of Durham History//NONSGML Events//EN
METHOD:REQUEST
BEGIN:VEVENT
UID:20260423T100343-1600319285-modh
DTSTAMP:20260423T100343
DTSTART:20200404T100000
DTEND:20200404T120000
SUMMARY:POSTPONED: Durham Civil Rights Walking Tour
DESCRIPTION:Due to the Covid-19 outbreak, the Museum will continue to monitor the situation and make a decision on postponing upcoming event. Stay tuned for more information. As part of the ongoing programming for our A Creative Protest: MLK Comes to Durham exhibit, the Museum of Durham History is partnering with...
END:VEVENT
END:VCALENDAR
