BEGIN:VCALENDAR
VERSION:2.0
PRODID:-//Museum of Durham History//NONSGML Events//EN
METHOD:REQUEST
BEGIN:VEVENT
UID:20260423T100255-807894456-modh
DTSTAMP:20260423T100255
DTSTART:20200515T180000
DTEND:20200515T200000
SUMMARY:CANCELLED: &#8220;Growing Together: Voices of Durham&#8217;s Central Park Neighborhood&#8221; Exhibit Opening
DESCRIPTION:Due to the Covid-19 outbreak, the Museum will continue to monitor the situation and make decisions on upcoming events. Stay tuned for more information. Join us for the opening reception of our “Growing Together: Voices of Durham’s Central Park Neighborhood” exhibit on Friday May 15th from 6-8PM. More...
END:VEVENT
END:VCALENDAR
