BEGIN:VCALENDAR
VERSION:2.0
PRODID:-//Museum of Durham History//NONSGML Events//EN
METHOD:REQUEST
BEGIN:VEVENT
UID:20260423T113033-2045098074-modh
DTSTAMP:20260423T113033
DTSTART:20200321T130000
DTEND:20200321T150000
SUMMARY:POSTPONED: &#8220;Durham A-Z: L is for Lemur&#8221; Kid&#8217;s Exhibit Opening
DESCRIPTION:Due to the Covid-19 outbreak, the Museum will continue to monitor the situation and make a decision on postponing upcoming event. Stay tuned for more information. Join us on Saturday, March 21 from 1-3PM at the Museum of Durham History for the opening of our newest kid’s exhibit...
END:VEVENT
END:VCALENDAR
