BEGIN:VCALENDAR
VERSION:2.0
PRODID:-//Museum of Durham History//NONSGML Events//EN
METHOD:REQUEST
BEGIN:VEVENT
UID:20260423T081421-1700144401-modh
DTSTAMP:20260423T081421
DTSTART:20151024T000000
DTEND:20151024T000000
SUMMARY:Biking Durham’s Geography: group ride with Bike Durham
DESCRIPTION:Celebrate biking in Durham as the Museum of Durham History teams up with Bike Durham for “Bike-A-Bull City”! Local historian Ernie Dollar will lead a 2 hour ride of downtown Durham’s historic sights.
END:VEVENT
END:VCALENDAR
