BEGIN:VCALENDAR
VERSION:2.0
PRODID:-//Museum of Durham History//NONSGML Events//EN
METHOD:REQUEST
BEGIN:VEVENT
UID:20260423T100135-1962793124-modh
DTSTAMP:20260423T100135
DTSTART:20200329T130000
DTEND:20200329T160000
SUMMARY:POSTPONED: Neighborhoods Hike: West Durham, East Campus &#038; Beyond
DESCRIPTION:What’s buried under Duke Hospital? Where did Madonna take early dance lessons? Why is Walltown called Walltown? Which famous songwriter was born on a kitchen table behind Monuts? Where was the West Durham airport? Why wasn’t Cameron Indoor Stadium built on Ninth Street? Where was Kevin Costner spotted in his...
END:VEVENT
END:VCALENDAR
