BEGIN:VCALENDAR
VERSION:2.0
PRODID:-//Museum of Durham History//NONSGML Events//EN
METHOD:REQUEST
BEGIN:VEVENT
UID:20260423T095728-795197491-modh
DTSTAMP:20260423T095728
DTSTART:20200221T180000
DTEND:20200221T200000
SUMMARY:February Third Friday
DESCRIPTION:Join us for Third Friday on February 21 for live music and extended museum hours!...
END:VEVENT
END:VCALENDAR
