BEGIN:VCALENDAR
VERSION:2.0
PRODID:-//Museum of Durham History//NONSGML Events//EN
METHOD:REQUEST
BEGIN:VEVENT
UID:20260423T062647-1877143477-modh
DTSTAMP:20260423T062647
DTSTART:20150919T100000
DTEND:20150919T130000
SUMMARY:Train Day Pop-up Exhibit
DESCRIPTION:Railroad historian Tony Reevy and others will display their collections of train artifacts and talk about Durham’s railroad history.
END:VEVENT
END:VCALENDAR
