BEGIN:VCALENDAR
VERSION:2.0
PRODID:-//Museum of Durham History//NONSGML Events//EN
METHOD:REQUEST
BEGIN:VEVENT
UID:20260423T095252-1395477403-modh
DTSTAMP:20260423T095252
DTSTART:20191220T180000
DTEND:20191220T210000
SUMMARY:Third Friday December
DESCRIPTION:Join us for Third Friday on December 20th for live music and extended museum hours!...
END:VEVENT
END:VCALENDAR
