BEGIN:VCALENDAR
VERSION:2.0
PRODID:-//Museum of Durham History//NONSGML Events//EN
METHOD:REQUEST
BEGIN:VEVENT
UID:20260423T113926-520788516-modh
DTSTAMP:20260423T113926
DTSTART:20191027T150000
DTEND:20191027T170000
SUMMARY:DSA Student Showcase: Día de los Muertos Alters
DESCRIPTION:As part of our ongoing programming for the Nuevo Esíritu de Durham exhibit, the Museum will showcase two alters from Durham School of the Arts’ “Fall Art Festival: Día de los Muertos.” Stop by the Museum on Oct.27th from 3-5PM to check out the alters and grab a bite to...
END:VEVENT
END:VCALENDAR
