BEGIN:VCALENDAR
VERSION:2.0
PRODID:-//Museum of Durham History//NONSGML Events//EN
METHOD:REQUEST
BEGIN:VEVENT
UID:20260423T100303-723273653-modh
DTSTAMP:20260423T100303
DTSTART:20191013T130000
DTEND:20191013T170000
SUMMARY:So Good Pupusas Food Truck pop-up
DESCRIPTION:We wrap up the final weekend of Hispanic Heritage Month with a visit from So Good Pupusas, highlighting their Kickstarter campaign for a second community food truck!...
END:VEVENT
END:VCALENDAR
