BEGIN:VCALENDAR
VERSION:2.0
PRODID:-//Museum of Durham History//NONSGML Events//EN
METHOD:REQUEST
BEGIN:VEVENT
UID:20260423T094258-537413587-modh
DTSTAMP:20260423T094258
DTSTART:20191018T180000
DTEND:20191018T200000
SUMMARY:October Third Friday
DESCRIPTION:Extended museum hours and live entertainment courtesy of Third Friday Durham!...
END:VEVENT
END:VCALENDAR
