BEGIN:VCALENDAR
VERSION:2.0
PRODID:-//Museum of Durham History//NONSGML Events//EN
METHOD:REQUEST
BEGIN:VEVENT
UID:20260423T095146-1518768019-modh
DTSTAMP:20260423T095146
DTSTART:20191024T180000
DTEND:20191024T200000
SUMMARY:Sister Cities Pop-Up Exhibit
DESCRIPTION:Join us on Thursday, October 24th from 6-8PM as we welcome a pop-up exhibit from our friends at Sister Cities of Durham. The temporary exhibit (on display Oct. 22-27) features Sister Cities projects over the years, and a world map showing all the international cities that are connected to...
END:VEVENT
END:VCALENDAR
