BEGIN:VCALENDAR
VERSION:2.0
PRODID:-//Museum of Durham History//NONSGML Events//EN
METHOD:REQUEST
BEGIN:VEVENT
UID:20260423T113132-1661304690-modh
DTSTAMP:20260423T113132
DTSTART:20191116T180000
DTEND:20191116T193000
SUMMARY:Screening of Durham: A Self-Portrait 150
DESCRIPTION:The Museum joins Dr. Steve Channing of Video Dialog Inc. to present the first screening of Durham: A Self-Portrait 150 at the The Carolina Theatre of Durham at 6 p.m. on Saturday, November 16, 2019, and will feature remarks from former mayor, Bill Bell. General admission tickets...
END:VEVENT
END:VCALENDAR
