BEGIN:VCALENDAR
VERSION:2.0
PRODID:-//Museum of Durham History//NONSGML Events//EN
METHOD:REQUEST
BEGIN:VEVENT
UID:20260423T095255-755378492-modh
DTSTAMP:20260423T095255
DTSTART:20190920T180000
DTEND:20190920T200000
SUMMARY:Third Friday- September
DESCRIPTION:Extended museum hours and live entertainment courtesy of Third Friday Durham!...
END:VEVENT
END:VCALENDAR
