BEGIN:VCALENDAR
VERSION:2.0
PRODID:-//Museum of Durham History//NONSGML Events//EN
METHOD:REQUEST
BEGIN:VEVENT
UID:20260423T083257-723629427-modh
DTSTAMP:20260423T083257
DTSTART:20190817T180000
DTEND:20190817T200000
SUMMARY:Third Friday- August
DESCRIPTION:Extended museum hours and live entertainment courtesy of Third Friday Durham!...
END:VEVENT
END:VCALENDAR
