BEGIN:VCALENDAR
VERSION:2.0
PRODID:-//Museum of Durham History//NONSGML Events//EN
METHOD:REQUEST
BEGIN:VEVENT
UID:20260423T065256-1929197716-modh
DTSTAMP:20260423T065256
DTSTART:20191102T193000
DTEND:20191102T220000
SUMMARY:Durham 150 Closing Ceremony
DESCRIPTION:The Durham 150 Closing Ceremony Presented by Duke University and Duke Health will take place on Saturday, November 2 from 7:30-10 p.m. at DPAC. This will be a culminating event of Durham 150, and will explore the history of Durham through narration, video, live performance and music. The production will recount pivotal...
END:VEVENT
END:VCALENDAR
