BEGIN:VCALENDAR
VERSION:2.0
PRODID:-//Museum of Durham History//NONSGML Events//EN
METHOD:REQUEST
BEGIN:VEVENT
UID:20260423T083303-24045671-modh
DTSTAMP:20260423T083303
DTSTART:20190913T180000
DTEND:20190913T200000
SUMMARY:&#8220;Nuevo Espíritu de Durham&#8221; exposición
DESCRIPTION:Únase con nosotros el 13 de septiembre de 6-8 PM para la recepción y apertura de nuestra exposición “Nuevo Espíritu de Durham: New Spirit of Durham” “! Esta exhibición examina el rápido crecimiento de la población latina de Durham, su diversidad, desafíos y triunfos, y también su futuro como una...
END:VEVENT
END:VCALENDAR
