BEGIN:VCALENDAR
VERSION:2.0
PRODID:-//Museum of Durham History//NONSGML Events//EN
METHOD:REQUEST
BEGIN:VEVENT
UID:20260423T032606-642331569-modh
DTSTAMP:20260423T032606
DTSTART:20190705T180000
DTEND:20190705T200000
SUMMARY:&#8220;Durham&#8217;s Early Jazz and Swing&#8221; exhibit opening
DESCRIPTION:Join us on Friday, July 5 from 6-8PM at the Museum of Durham History as we celebrate the opening of our fourth community curated exhibit, Durham’s Early Jazz and Swing. Durham’s vibrant jazz community is as old as jazz itself – Durham’s Early Jazz and Swing will explore the history of...
END:VEVENT
END:VCALENDAR
