BEGIN:VCALENDAR
VERSION:2.0
PRODID:-//Museum of Durham History//NONSGML Events//EN
METHOD:REQUEST
BEGIN:VEVENT
UID:20260423T012803-1020708323-modh
DTSTAMP:20260423T012803
DTSTART:20190608T100000
DTEND:20190608T000000
SUMMARY:Lost to the Loop Walking Tour
DESCRIPTION:Join us on Saturday June 8th for a walking tour of downtown Durham — highlighting how the construction of the Downtown Loop transformed the Central Business District. Learn about the unique architecture that was lost, local businesses that once called downtown home, and explore your Bull City in a new...
END:VEVENT
END:VCALENDAR
