BEGIN:VCALENDAR
VERSION:2.0
PRODID:-//Museum of Durham History//NONSGML Events//EN
METHOD:REQUEST
BEGIN:VEVENT
UID:20260423T032458-509039626-modh
DTSTAMP:20260423T032458
DTSTART:20190614T180000
DTEND:20190614T200000
SUMMARY:&#8220;Meeting at the Finish Line: Coaches Walker and Buehler&#8221; Exhibit Opening
DESCRIPTION:In the third installment of our community-curated exhibit series, Meeting at the Finish Line: Coaches Walker and Buehler tells the story of track and field coaches Leroy T. Walker (NCCU) and Al Buehler (Duke). This exhibit will highlight the achievements of both coaches at the national and international stages as well...
END:VEVENT
END:VCALENDAR
