BEGIN:VCALENDAR
VERSION:2.0
PRODID:-//Museum of Durham History//NONSGML Events//EN
METHOD:REQUEST
BEGIN:VEVENT
UID:20260423T094131-547531127-modh
DTSTAMP:20260423T094131
DTSTART:20190517T180000
DTEND:20190517T200000
SUMMARY:Third Friday Live Music
DESCRIPTION:Join us for live music under the Museum’s gazebo and extended hours!...
END:VEVENT
END:VCALENDAR
