BEGIN:VCALENDAR
VERSION:2.0
PRODID:-//Museum of Durham History//NONSGML Events//EN
METHOD:REQUEST
BEGIN:VEVENT
UID:20260423T095145-1022952889-modh
DTSTAMP:20260423T095145
DTSTART:20190510T180000
DTEND:20190510T200000
SUMMARY:Lost to the Loop: Reshaping Downtown Durham exhibit opening
DESCRIPTION:In the second installment of our community-curated exhibit series, Lost to the Loop: Reshaping Downtown Durham tells the story of Durham’s Downtown Loop – from the historical street grid to the Julian Tarrant plan and the implementation of major changes to the streetscape. This exhibit will feature historic and contemporary pictures to show...
END:VEVENT
END:VCALENDAR
