BEGIN:VCALENDAR
VERSION:2.0
PRODID:-//Museum of Durham History//NONSGML Events//EN
METHOD:REQUEST
BEGIN:VEVENT
UID:20260423T114104-1973621159-modh
DTSTAMP:20260423T114104
DTSTART:20190412T180000
DTEND:20190412T200000
SUMMARY:Community, Kids, and Pioneers
DESCRIPTION:Join us at MoDH on Friday, April 12, from 6pm to 8pm for our Community, Kids, and Pioneers event where we will mark the opening of our Durham 150 exhibit series. Consider this a “pre-party” for the opening celebration at American Tobacco Campus on...
END:VEVENT
END:VCALENDAR
