BEGIN:VCALENDAR
VERSION:2.0
PRODID:-//Museum of Durham History//NONSGML Events//EN
METHOD:REQUEST
BEGIN:VEVENT
UID:20260423T095254-1592539448-modh
DTSTAMP:20260423T095254
DTSTART:20190118T180000
DTEND:20190118T200000
SUMMARY:January 18: Third Friday, 6-8PM
DESCRIPTION:Join us for FREE live music in the Museum and extended hours to explore our exhibits!...
END:VEVENT
END:VCALENDAR
