BEGIN:VCALENDAR
VERSION:2.0
PRODID:-//Museum of Durham History//NONSGML Events//EN
METHOD:REQUEST
BEGIN:VEVENT
UID:20260423T095300-180226372-modh
DTSTAMP:20260423T095300
DTSTART:20181207T180000
DTEND:20181207T200000
SUMMARY:Durham During the Great War Closing Event
DESCRIPTION:Please join us as we celebrate the success of our Durham During the Great War exhibit with a closing reception. This event is FREE and open to the public with light refreshments being served. Duke University professor Dr. Adriane Lentz-Smith will give a talk on African American service during World War I...
END:VEVENT
END:VCALENDAR
