BEGIN:VCALENDAR
VERSION:2.0
PRODID:-//Museum of Durham History//NONSGML Events//EN
METHOD:REQUEST
BEGIN:VEVENT
UID:20260423T094219-2083154832-modh
DTSTAMP:20260423T094219
DTSTART:20181117T100000
DTEND:20181117T170000
SUMMARY:Durham Art Walk
DESCRIPTION:The Durham Art Walk Holiday Market is a festive fine arts and crafts event that celebrates the holiday season in downtown Durham! The Holiday Market invites art lovers for a weekend full of art and sunshine including: dazzling examples of local artistic talent, ongoing live music, world-class restaurants, great shopping,...
END:VEVENT
END:VCALENDAR
