BEGIN:VCALENDAR
VERSION:2.0
PRODID:-//Museum of Durham History//NONSGML Events//EN
METHOD:REQUEST
BEGIN:VEVENT
UID:20260423T094131-976156005-modh
DTSTAMP:20260423T094131
DTSTART:20181116T180000
DTEND:20181116T210000
SUMMARY:Third Friday- Live Music
DESCRIPTION:Join us for FREE live music in the Museum and extended hours to explore our exhibits!...
END:VEVENT
END:VCALENDAR
