BEGIN:VCALENDAR
VERSION:2.0
PRODID:-//Museum of Durham History//NONSGML Events//EN
METHOD:REQUEST
BEGIN:VEVENT
UID:20260423T094219-56335475-modh
DTSTAMP:20260423T094219
DTSTART:20181111T110000
DTEND:20181111T000000
SUMMARY:Bells Across Durham
DESCRIPTION:At 11am on Sunday, November 11, the Museum is helping to support “Bells Across Durham,” part of a national and international commemoration of the signing of the Armistice ending the First World War.
END:VEVENT
END:VCALENDAR
