BEGIN:VCALENDAR
VERSION:2.0
PRODID:-//Museum of Durham History//NONSGML Events//EN
METHOD:REQUEST
BEGIN:VEVENT
UID:20260423T095201-1119732705-modh
DTSTAMP:20260423T095201
DTSTART:20181214T180000
DTEND:20181214T200000
SUMMARY:Louis Austin Exhibit Opening
DESCRIPTION:Join us on December 14th from 6-8PM at the Museum of Durham History for the opening of an exhibit examining the life of Louis E. Austin, editor and publisher of the Carolina Times newspaper from 1927 to his death in 1971. Exhibit curated by Dr. Jerry Gershenhorn, who recently authored the book: Louis...
END:VEVENT
END:VCALENDAR
