BEGIN:VCALENDAR
VERSION:2.0
PRODID:-//Museum of Durham History//NONSGML Events//EN
METHOD:REQUEST
BEGIN:VEVENT
UID:20260423T095145-1561197858-modh
DTSTAMP:20260423T095145
DTSTART:20181110T130000
DTEND:20181110T150000
SUMMARY:Veteran&#8217;s Day Weekend Commemoration
DESCRIPTION:Join us at the Museum of Durham History as we commemorate the centennial of the Armistice of World War I and Veteran’s Day weekend with a performance of World War I era patriotic songs as part of programming to support the ongoing exhibit “Durham During the Great War.” A cappella...
END:VEVENT
END:VCALENDAR
