BEGIN:VCALENDAR
VERSION:2.0
PRODID:-//Museum of Durham History//NONSGML Events//EN
METHOD:REQUEST
BEGIN:VEVENT
UID:20260423T100626-1835935505-modh
DTSTAMP:20260423T100626
DTSTART:20181028T130000
DTEND:20181028T000000
SUMMARY:Mary Duke Biddle Trent Semans History Grove Opening
DESCRIPTION:Sunday, October 28th at 1pm, the MoDH 5th birthday celebration caps off with the dedication of our newest History Grove in the North West Entrance of Forest Hills Park, 1044 W. Forest Hills Blvd. The latest History Grove honors mother, activist, politician, and philanthropist Mary Duke Biddle Trent Semans, who was also...
END:VEVENT
END:VCALENDAR
