BEGIN:VCALENDAR
VERSION:2.0
PRODID:-//Museum of Durham History//NONSGML Events//EN
METHOD:REQUEST
BEGIN:VEVENT
UID:20260423T100344-631152513-modh
DTSTAMP:20260423T100344
DTSTART:20181027T093000
DTEND:20181027T150000
SUMMARY:MoDH 5th Birthday Weekend: Saturday Celebration
DESCRIPTION:Please join us as we celebrate our FIFTH Birthday with a weekend full of fun! Saturday, October 27th, we will start the day with different ways to tour Durham’s history. All events are rain or shine. 9:30AM: Preservation Durham will leave from the Museum and lead a walking...
END:VEVENT
END:VCALENDAR
